BEGIN:VCALENDAR
VERSION:2.0
PRODID:-//eventon.com NONSGML v1.0//EN
CALSCALE:GREGORIAN
METHOD:PUBLISH
BEGIN:VEVENT
UID:69e982a87dac8
DTSTAMP:20260423T022336Z
DTSTART:20260404T130000Z
DTEND:20260404T220000Z
LOCATION:
SUMMARY:NOLA Riding Academy Motorcycle Track Days
DESCRIPTION:Take your riding to the next level in a safe environment. Meet 
 new friends and share the passion. Gates will open at 6:00am and mandatory 
 riders meeting will start at 8:00am. Track will be hot from 9:00pm-6:00pm p
 m with an hour off for lunch. We will be offering the standard[..]\nhttps:/
 /nolamotor.com/events/nola-riding-academy-motorcycle-track-days/
URL:https://nolamotor.com/events/nola-riding-academy-motorcycle-track-days/
END:VEVENT
END:VCALENDAR