BEGIN:VCALENDAR
VERSION:2.0
PRODID:-//eventon.com NONSGML v1.0//EN
CALSCALE:GREGORIAN
METHOD:PUBLISH
BEGIN:VEVENT
UID:69e74c987fbdb
DTSTAMP:20260421T100824Z
DTSTART:20250322T130000Z
DTEND:20250323T220000Z
LOCATION:
SUMMARY:SCCA Hoosier Super Tour
DESCRIPTION:Open &amp; free for spectators! For a second straight year\,  N
 OLA Motorsports Park is back on the Hoosier Racing Tire SCCA® Super Tour c
 alendar with a two-day festival co-hosted by SCCA’s Lone Star Region and 
 Southwest Division. PARTICIPANT REGISTRATION\nhttps://nolamotor.com/events/
 scca-voodoo-reboot/
URL:https://nolamotor.com/events/scca-voodoo-reboot/
END:VEVENT
END:VCALENDAR