BEGIN:VCALENDAR
VERSION:2.0
PRODID:-//eventon.com NONSGML v1.0//EN
CALSCALE:GREGORIAN
METHOD:PUBLISH
BEGIN:VEVENT
UID:69e738d5711bf
DTSTAMP:20260421T084405Z
DTSTART:20250913T120000Z
DTEND:20250913T170000Z
LOCATION:
SUMMARY:Texas Sprint Racing Series - PRACTICE WEEKEND
DESCRIPTION:September 13th – 14th | 7:00 AM to 12:00 PM on both days at N
 OLA Motorsports Park REGISTER\nhttps://nolamotor.com/events/texas-sprint-ra
 cing-series-practice-weekend/
URL:https://nolamotor.com/events/texas-sprint-racing-series-practice-weekend/
END:VEVENT
END:VCALENDAR